BEGIN:VCALENDAR
METHOD:PUBLISH
PRODID:-//doubleknot.com//CalenderEvent MIMEDIR//EN
VERSION:2.0
BEGIN:VEVENT
UID:3144110-20260507T233000Z-20260508T004500Z@doubleknot.com
CREATED:20260422T174636Z
LAST-MODIFIED:20260422T174636Z
DTSTAMP:20260424T103405Z
DTSTART:20260507T233000Z
DTEND:20260508T004500Z
LOCATION:6425 W. Metairie Ave., Metairie, LA 70003, US
CATEGORIES:
DESCRIPTION:As part of her Wood Badge ticket, Tara Rosenkranz developed a presentation about &quot;Belonging in Scouting- how to support Scouts who may be shy, anxious, autistic or hesitant to jump into group activities.&quot;  She shared the infographic to the right as a &quot;sneak peek about the topic&quot; and will do her presentation and lead a group discussion on the topic.  Presentation will last at least 30 minutes, and this applies to both Cub Packs and Troops. \n  \n  \n   \n  \n  \n  \n 
SUMMARY:Belonging in Scouting-Supporting Scouts who may be shy, anxious, autistic or hesitant to jump into gr
PRIORITY:5
BEGIN:VALARM
TRIGGER:PT15M
ACTION:DISPLAY
DESCRIPTION:Reminder
PRIORITY:5
END:VALARM
END:VEVENT
END:VCALENDAR
