BEGIN:VCALENDAR
METHOD:PUBLISH
PRODID:-//doubleknot.com//CalenderEvent MIMEDIR//EN
VERSION:2.0
BEGIN:VEVENT
UID:3144174-20260806T233000Z-20260807T010000Z@doubleknot.com
CREATED:20260423T143848Z
LAST-MODIFIED:20260423T143848Z
DTSTAMP:20260424T103936Z
DTSTART:20260806T233000Z
DTEND:20260807T010000Z
LOCATION:6425 W. Metairie Ave., Metairie, LA 70003, US
CATEGORIES:
DESCRIPTION: \n 
SUMMARY:Back to the Pack School Night Meeting-FREE
PRIORITY:5
BEGIN:VALARM
TRIGGER:PT15M
ACTION:DISPLAY
DESCRIPTION:Reminder
PRIORITY:5
END:VALARM
END:VEVENT
END:VCALENDAR
